BEGIN:VCALENDAR
VERSION:2.0
PRODID:-//RTA of Southeast Michigan - ECPv6.15.16//NONSGML v1.0//EN
CALSCALE:GREGORIAN
METHOD:PUBLISH
X-WR-CALNAME:RTA of Southeast Michigan
X-ORIGINAL-URL:https://www.rtamichigan.org
X-WR-CALDESC:Events for RTA of Southeast Michigan
REFRESH-INTERVAL;VALUE=DURATION:PT1H
X-Robots-Tag:noindex
X-PUBLISHED-TTL:PT1H
BEGIN:VTIMEZONE
TZID:America/New_York
BEGIN:DAYLIGHT
TZOFFSETFROM:-0500
TZOFFSETTO:-0400
TZNAME:EDT
DTSTART:20250309T070000
END:DAYLIGHT
BEGIN:STANDARD
TZOFFSETFROM:-0400
TZOFFSETTO:-0500
TZNAME:EST
DTSTART:20251102T060000
END:STANDARD
BEGIN:DAYLIGHT
TZOFFSETFROM:-0500
TZOFFSETTO:-0400
TZNAME:EDT
DTSTART:20260308T070000
END:DAYLIGHT
BEGIN:STANDARD
TZOFFSETFROM:-0400
TZOFFSETTO:-0500
TZNAME:EST
DTSTART:20261101T060000
END:STANDARD
BEGIN:DAYLIGHT
TZOFFSETFROM:-0500
TZOFFSETTO:-0400
TZNAME:EDT
DTSTART:20270314T070000
END:DAYLIGHT
BEGIN:STANDARD
TZOFFSETFROM:-0400
TZOFFSETTO:-0500
TZNAME:EST
DTSTART:20271107T060000
END:STANDARD
END:VTIMEZONE
BEGIN:VEVENT
DTSTART;TZID=America/New_York:20260512T130000
DTEND;TZID=America/New_York:20260512T150000
DTSTAMP:20260422T165855
CREATED:20260218T172418Z
LAST-MODIFIED:20260218T185005Z
UID:10000072-1778590800-1778598000@www.rtamichigan.org
SUMMARY:Providers Advisory Committee Meeting
DESCRIPTION:The Providers Advisory Committee (PAC) comprises two members appointed by each public transportation provider in the region. The PAC may make recommendations about coordination\, funding\, plans\, specialized services\, and more.
URL:https://www.rtamichigan.org/event/rta-public-transit-providers-advisory-committee-meeting-5-12-2026
LOCATION:RTA Offices\, Gratiot Room\, 1001 Woodward Ave.\, Suite 1400\, Detroit\, MI\, 48226\, United States
CATEGORIES:Public Transit Providers Advisory Committee
END:VEVENT
BEGIN:VEVENT
DTSTART;TZID=America/New_York:20260521T130000
DTEND;TZID=America/New_York:20260521T160000
DTSTAMP:20260422T165855
CREATED:20260218T202957Z
LAST-MODIFIED:20260218T203457Z
UID:10000075-1779368400-1779379200@www.rtamichigan.org
SUMMARY:Board of Directors Meeting
DESCRIPTION:The Board of Directors is the body that makes final decisions about the RTA’s operations. The RTA’s 10-member board is appointed for three-year terms by the Wayne\, Oakland\, and Macomb County executives\, the chair of the Washtenaw County Board of Commissioners\, the Mayor of Detroit\, and the Governor of Michigan. The Governor’s appointee serves as a non-voting chair.
URL:https://www.rtamichigan.org/event/rta-of-southeast-michigan-board-of-directors-meeting-5-21-2026
LOCATION:SEMCOG Woodward Room\, 1001 Woodward Avenue\, Suite 1400\, Detroit\, MI\, 48226\, United States
CATEGORIES:Board of Directors
END:VEVENT
BEGIN:VEVENT
DTSTART;TZID=America/New_York:20260618T130000
DTEND;TZID=America/New_York:20260618T160000
DTSTAMP:20260422T165855
CREATED:20260218T203146Z
LAST-MODIFIED:20260218T203441Z
UID:10000076-1781787600-1781798400@www.rtamichigan.org
SUMMARY:Board of Directors Meeting
DESCRIPTION:The Board of Directors is the body that makes final decisions about the RTA’s operations. The RTA’s 10-member board is appointed for three-year terms by the Wayne\, Oakland\, and Macomb County executives\, the chair of the Washtenaw County Board of Commissioners\, the Mayor of Detroit\, and the Governor of Michigan. The Governor’s appointee serves as a non-voting chair.
URL:https://www.rtamichigan.org/event/rta-of-southeast-michigan-board-of-directors-meeting-6-18-2026
LOCATION:SEMCOG Woodward Room\, 1001 Woodward Avenue\, Suite 1400\, Detroit\, MI\, 48226\, United States
CATEGORIES:Board of Directors
END:VEVENT
BEGIN:VEVENT
DTSTART;TZID=America/New_York:20260716T130000
DTEND;TZID=America/New_York:20260716T160000
DTSTAMP:20260422T165855
CREATED:20260218T203412Z
LAST-MODIFIED:20260218T203412Z
UID:10000077-1784206800-1784217600@www.rtamichigan.org
SUMMARY:Board of Directors Meeting
DESCRIPTION:The Board of Directors is the body that makes final decisions about the RTA’s operations. The RTA’s 10-member board is appointed for three-year terms by the Wayne\, Oakland\, and Macomb County executives\, the chair of the Washtenaw County Board of Commissioners\, the Mayor of Detroit\, and the Governor of Michigan. The Governor’s appointee serves as a non-voting chair.
URL:https://www.rtamichigan.org/event/rta-of-southeast-michigan-board-of-directors-meeting-7-16-2026
LOCATION:SEMCOG Woodward Room\, 1001 Woodward Avenue\, Suite 1400\, Detroit\, MI\, 48226\, United States
CATEGORIES:Board of Directors
END:VEVENT
BEGIN:VEVENT
DTSTART;TZID=America/New_York:20260811T130000
DTEND;TZID=America/New_York:20260811T150000
DTSTAMP:20260422T165855
CREATED:20260218T172432Z
LAST-MODIFIED:20260218T181741Z
UID:10000073-1786453200-1786460400@www.rtamichigan.org
SUMMARY:Providers Advisory Committee Meeting
DESCRIPTION:The Providers Advisory Committee (PAC) comprises two members appointed by each public transportation provider in the region. The PAC may make recommendations about coordination\, funding\, plans\, specialized services\, and more.
URL:https://www.rtamichigan.org/event/rta-public-transit-providers-advisory-committee-meeting-8-11-2026
LOCATION:RTA Offices\, Gratiot Room\, 1001 Woodward Ave.\, Suite 1400\, Detroit\, MI\, 48226\, United States
CATEGORIES:Public Transit Providers Advisory Committee
END:VEVENT
BEGIN:VEVENT
DTSTART;TZID=America/New_York:20260820T130000
DTEND;TZID=America/New_York:20260820T160000
DTSTAMP:20260422T165855
CREATED:20260218T203711Z
LAST-MODIFIED:20260218T203711Z
UID:10000078-1787230800-1787241600@www.rtamichigan.org
SUMMARY:Board of Directors Meeting
DESCRIPTION:The Board of Directors is the body that makes final decisions about the RTA’s operations. The RTA’s 10-member board is appointed for three-year terms by the Wayne\, Oakland\, and Macomb County executives\, the chair of the Washtenaw County Board of Commissioners\, the Mayor of Detroit\, and the Governor of Michigan. The Governor’s appointee serves as a non-voting chair.
URL:https://www.rtamichigan.org/event/rta-of-southeast-michigan-board-of-directors-meeting-8-20-2026
LOCATION:SEMCOG Woodward Room\, 1001 Woodward Avenue\, Suite 1400\, Detroit\, MI\, 48226\, United States
CATEGORIES:Board of Directors
END:VEVENT
BEGIN:VEVENT
DTSTART;TZID=America/New_York:20260917T130000
DTEND;TZID=America/New_York:20260917T160000
DTSTAMP:20260422T165855
CREATED:20260218T203848Z
LAST-MODIFIED:20260218T203848Z
UID:10000079-1789650000-1789660800@www.rtamichigan.org
SUMMARY:Board of Directors Meeting
DESCRIPTION:The Board of Directors is the body that makes final decisions about the RTA’s operations. The RTA’s 10-member board is appointed for three-year terms by the Wayne\, Oakland\, and Macomb County executives\, the chair of the Washtenaw County Board of Commissioners\, the Mayor of Detroit\, and the Governor of Michigan. The Governor’s appointee serves as a non-voting chair.
URL:https://www.rtamichigan.org/event/rta-of-southeast-michigan-board-of-directors-meeting-9-17-2026
LOCATION:SEMCOG Woodward Room\, 1001 Woodward Avenue\, Suite 1400\, Detroit\, MI\, 48226\, United States
CATEGORIES:Board of Directors
END:VEVENT
BEGIN:VEVENT
DTSTART;TZID=America/New_York:20261015T130000
DTEND;TZID=America/New_York:20261015T160000
DTSTAMP:20260422T165855
CREATED:20260218T204013Z
LAST-MODIFIED:20260218T204013Z
UID:10000080-1792069200-1792080000@www.rtamichigan.org
SUMMARY:Board of Directors Meeting
DESCRIPTION:The Board of Directors is the body that makes final decisions about the RTA’s operations. The RTA’s 10-member board is appointed for three-year terms by the Wayne\, Oakland\, and Macomb County executives\, the chair of the Washtenaw County Board of Commissioners\, the Mayor of Detroit\, and the Governor of Michigan. The Governor’s appointee serves as a non-voting chair.
URL:https://www.rtamichigan.org/event/rta-of-southeast-michigan-board-of-directors-meeting-10-15-2026
LOCATION:SEMCOG Woodward Room\, 1001 Woodward Avenue\, Suite 1400\, Detroit\, MI\, 48226\, United States
CATEGORIES:Board of Directors
END:VEVENT
BEGIN:VEVENT
DTSTART;TZID=America/New_York:20261110T130000
DTEND;TZID=America/New_York:20261110T150000
DTSTAMP:20260422T165855
CREATED:20260218T172446Z
LAST-MODIFIED:20260218T181709Z
UID:10000074-1794315600-1794322800@www.rtamichigan.org
SUMMARY:Providers Advisory Committee Meeting
DESCRIPTION:The Providers Advisory Committee (PAC) comprises two members appointed by each public transportation provider in the region. The PAC may make recommendations about coordination\, funding\, plans\, specialized services\, and more.
URL:https://www.rtamichigan.org/event/rta-public-transit-providers-advisory-committee-meeting-11-10-2026
LOCATION:RTA Offices\, Gratiot Room\, 1001 Woodward Ave.\, Suite 1400\, Detroit\, MI\, 48226\, United States
CATEGORIES:Public Transit Providers Advisory Committee
END:VEVENT
BEGIN:VEVENT
DTSTART;TZID=America/New_York:20261203T130000
DTEND;TZID=America/New_York:20261203T160000
DTSTAMP:20260422T165855
CREATED:20260105T171802Z
LAST-MODIFIED:20260218T205459Z
UID:10000062-1796302800-1796313600@www.rtamichigan.org
SUMMARY:Board of Directors Meeting
DESCRIPTION:The Board of Directors is the body that makes final decisions about the RTA’s operations. The RTA’s 10-member board is appointed for three-year terms by the Wayne\, Oakland\, and Macomb County executives\, the chair of the Washtenaw County Board of Commissioners\, the Mayor of Detroit\, and the Governor of Michigan. The Governor’s appointee serves as a non-voting chair.
URL:https://www.rtamichigan.org/event/rta-of-southeast-michigan-board-of-directors-meeting-december-3-2026
LOCATION:SEMCOG Woodward Room\, 1001 Woodward Avenue\, Suite 1400\, Detroit\, MI\, 48226\, United States
CATEGORIES:Board of Directors
END:VEVENT
END:VCALENDAR